BEGIN:VCALENDAR
VERSION:2.0
PRODID:-//eventon.com NONSGML v1.0//EN
BEGIN:VEVENT
UID:69e5ebc538af6
DTSTAMP:20260420T100301
DTSTART:20250308T063000Z
DTEND:20250308T105000Z
TZID:Pacific/Midway
LOCATION:hammersmith 
SUMMARY:London   - Hammersmith Irish Centre
DESCRIPTION: London   - Hammersmith Irish Centre
URL:https://www.johnmccusker.co.uk/events/london-irish-cultural-centre/
END:VEVENT
END:VCALENDAR