BEGIN:VCALENDAR
VERSION:2.0
PRODID:-//eventon.com NONSGML v1.0//EN
BEGIN:VEVENT
UID:69e88d8bddaf6
DTSTAMP:20260422T095747
DTSTART:20241217T070000Z
DTEND:20241217T105000Z
TZID:Pacific/Midway
LOCATION:Royal Concert Hall 
SUMMARY:Inverness -  Eden Court Theatre
DESCRIPTION: C
URL:https://www.johnmccusker.co.uk/events/inverness-eden-court-theatre-2/
END:VEVENT
END:VCALENDAR